BEGIN:VCALENDAR
VERSION:2.0
PRODID:-//eventon.com NONSGML v1.0//EN
CALSCALE:GREGORIAN
METHOD:PUBLISH
BEGIN:VEVENT
UID:69e558cd929f0
DTSTAMP:20260419T223557Z
DTSTART:20220103
DTEND:20220104
LOCATION:
SUMMARY:Camino Ignaciano - Misiones
DESCRIPTION:Taller de autoconocimiento: 3 al 5 de enero Mes de Ejercicios e
 n etapas: 5 al 13 de enero Peregrinación: 14 de enero Misión: 15 y 16 de 
 enero Modalidad: Presencial &#8211; Casa de EE.EE San Ignacio\,  Garupá\, 
  Misiones Contacto: Parroquia Santos Mártires &#8211; parroquiasantosmarti
 resposadas@gmail.com\nhttps://cvxargentina.com.ar/events/camino-ignaciano-m
 isiones/
URL:https://cvxargentina.com.ar/events/camino-ignaciano-misiones/
END:VEVENT
END:VCALENDAR