BEGIN:VCALENDAR
VERSION:2.0
PRODID:-//eventon.com NONSGML v1.0//EN
CALSCALE:GREGORIAN
METHOD:PUBLISH
BEGIN:VEVENT
UID:69e5e9ad3d7f2
DTSTAMP:20260420T085405Z
DTSTART:20210702T223000Z
DTEND:20210730T233000Z
LOCATION:
SUMMARY:Ejercicios Espirituales en la vida corriente
DESCRIPTION:Modalidad: Virtual Viernes 2\,  16\,  23 y 30 de julio Destinat
 arios: Público en general Acompaña: P. Gonzalo Zarazaga\,  SJ Contacto: 
 secretaria@ceia.org.ar // +54 9 11 2652-1237\nhttps://cvxargentina.com.ar
 /events/ejercicios-espirituales-en-la-vida-corriente/
URL:https://cvxargentina.com.ar/events/ejercicios-espirituales-en-la-vida-corriente/
END:VEVENT
END:VCALENDAR