BEGIN:VCALENDAR
VERSION:2.0
PRODID:-//eventon.com NONSGML v1.0//EN
CALSCALE:GREGORIAN
METHOD:PUBLISH
BEGIN:VEVENT
UID:69e609d3b081b
DTSTAMP:20260420T111115Z
DTSTART:20210610T223000Z
DTEND:20210611T000000Z
LOCATION:
SUMMARY:Un corazón abierto para gestar un mundo abierto
DESCRIPTION:Modalidad: Virtual Destinatarios: Público en general\,  requie
 re inscripción previa Acompaña: Hna. Adela Mancuso\,  aci Contacto: cent
 roespiritualidadesclavas@gmail.com\nhttps://cvxargentina.com.ar/events/un-c
 orazon-abierto-para-gestar-un-mundo-abierto/
URL:https://cvxargentina.com.ar/events/un-corazon-abierto-para-gestar-un-mundo-abierto/
END:VEVENT
END:VCALENDAR