BEGIN:VCALENDAR
VERSION:2.0
PRODID:-//eventon.com NONSGML v1.0//EN
CALSCALE:GREGORIAN
METHOD:PUBLISH
BEGIN:VEVENT
UID:69e81244867d0
DTSTAMP:20260422T001148Z
DTSTART:20210315
DTEND:20210316
LOCATION:
SUMMARY:Ejercicios Espirituales - Vivir el discernimiento en tiempos de pandemia
DESCRIPTION:Modalidad: Presencial &#8211; Centro Loyola (San Miguel\,  Bs. 
 As.) Destinatarios: Público en general Orienta: P. Marcos Alemán\,  SJ Co
 ntacto: secretaria@centroloyola.com.ar // (011) 4455 7992\nhttps://cvxargen
 tina.com.ar/events/ejercicios-espirituales-vivir-el-discernimiento-en-tiemp
 os-de-pandemia/
URL:https://cvxargentina.com.ar/events/ejercicios-espirituales-vivir-el-discernimiento-en-tiempos-de-pandemia/
END:VEVENT
END:VCALENDAR