BEGIN:VCALENDAR
VERSION:2.0
PRODID:-//eventon.com NONSGML v1.0//EN
CALSCALE:GREGORIAN
METHOD:PUBLISH
BEGIN:VEVENT
UID:69eb7d3c78b6f
DTSTAMP:20260424T142500Z
DTSTART:20201214
DTEND:20201215
LOCATION:
SUMMARY:Ejercicios de Adviento
DESCRIPTION:Modalidad: Presencial Destinatarios: Público en general Orient
 a: Hno. Enrique Garcia\,  SJ Contacto: secretaria@centroloyola.com.ar &#821
 1; 011 44557992 Int. 148\nhttps://cvxargentina.com.ar/events/ejercicios-de-
 adviento/
URL:https://cvxargentina.com.ar/events/ejercicios-de-adviento/
END:VEVENT
END:VCALENDAR